BEGIN:VCALENDAR
VERSION:2.0
PRODID:-//Plone.org//NONSGML plone.app.event//EN
X-WR-TIMEZONE:Europe/Madrid
BEGIN:VEVENT
SUMMARY:Tertúlia de novel·la: Todo queda en casa, d'Alice Munro
DTSTART;TZID=Europe/Madrid;VALUE=DATE-TIME:20200217T190000
DTEND;TZID=Europe/Madrid;VALUE=DATE-TIME:20200217T200000
DTSTAMP;VALUE=DATE-TIME:20260425T233041Z
UID:3a40a57a980a3266eafc136365af048c
CREATED;VALUE=DATE-TIME:20200217T000000Z
CATEGORIES:Literatura
LOCATION:Sala d'Actes de la Biblioteca - C. Bonaire, 3
ORGANIZER:Biblioteca - Regidoria de Cultura
DESCRIPTION:moderada per Teresa Verdura
URL:https://arenysdemar.cat/document.php?id=38261
END:VEVENT
END:VCALENDAR