BEGIN:VCALENDAR
VERSION:2.0
PRODID:-//Plone.org//NONSGML plone.app.event//EN
X-WR-TIMEZONE:Europe/Madrid
BEGIN:VEVENT
SUMMARY:Do-In. Estiraments i exercicis terapèutics de Medicina Tradicional Xinesa
DTSTART;TZID=Europe/Madrid;VALUE=DATE-TIME:20200202T100000
DTEND;TZID=Europe/Madrid;VALUE=DATE-TIME:20200202T110000
DTSTAMP;VALUE=DATE-TIME:20260422T181110Z
UID:750e95bbc3b6cade5997dfd64c378d9d
CREATED;VALUE=DATE-TIME:20200202T000000Z
CATEGORIES:Esports
LOCATION:Espai Jove del C.C.Calisay - Riera del Pare Fita, 31
ORGANIZER:Banc del Temps d'Arenys
COMMENT:Preu: Col·laboració voluntària
Durada: Tots els diumenges de 10 a 11 del matí
DESCRIPTION:a càrrec de Slobodan Jerkovic, terapeuta i professor de Shiatsu i Medicina tradicional Xinesa
URL:https://arenysdemar.cat/document.php?id=38267
END:VEVENT
END:VCALENDAR