BEGIN:VCALENDAR
VERSION:2.0
PRODID:-//Plone.org//NONSGML plone.app.event//EN
X-WR-TIMEZONE:Europe/Madrid
BEGIN:VEVENT
SUMMARY:Febrer Musical: Històries sobre el violí
DTSTART;TZID=Europe/Madrid;VALUE=DATE-TIME:20200207T180000
DTEND;TZID=Europe/Madrid;VALUE=DATE-TIME:20200207T190000
DTSTAMP;VALUE=DATE-TIME:20260425T200928Z
UID:f3f4c87fb8481ac275d6ef6de01d110c
CREATED;VALUE=DATE-TIME:20200207T000000Z
CATEGORIES:Conferència
LOCATION:Sala Noble del C.C.Calisay - Riera Pare Fita, 31
ORGANIZER:Aula d'Extensió Universitària
DESCRIPTION:a càrrec de Pere Andreu Jariod, historiador musical
URL:https://arenysdemar.cat/document.php?id=38271
END:VEVENT
END:VCALENDAR