BEGIN:VCALENDAR
VERSION:2.0
PRODID:-//Plone.org//NONSGML plone.app.event//EN
X-WR-TIMEZONE:Europe/Madrid
BEGIN:VEVENT
SUMMARY:Fira de Nadal   ACTIVITAT SUSPESA
DTSTART;TZID=Europe/Madrid;VALUE=DATE-TIME:20201212T100000
DTEND;TZID=Europe/Madrid;VALUE=DATE-TIME:20201212T110000
DTSTAMP;VALUE=DATE-TIME:20260420T092835Z
UID:8d6dc4b9882c6edeb643ded8fa97a72c
CREATED;VALUE=DATE-TIME:20201212T000000Z
CATEGORIES:Mostra
LOCATION:Plaça de l'Església - Plaça de l'Església
ORGANIZER:Associació Fira dels Solstici
COMMENT:Durada: 10 a 21h. També el dia 13 de desembre
URL:https://arenysdemar.cat/document.php?id=38336
END:VEVENT
END:VCALENDAR