BEGIN:VCALENDAR
VERSION:2.0
PRODID:-//Plone.org//NONSGML plone.app.event//EN
X-WR-TIMEZONE:Europe/Madrid
BEGIN:VEVENT
SUMMARY:Portes obertes a l'Escola Sinera
DTSTART;TZID=Europe/Madrid;VALUE=DATE-TIME:20200308T100000
DTEND;TZID=Europe/Madrid;VALUE=DATE-TIME:20200308T110000
DTSTAMP;VALUE=DATE-TIME:20260423T232818Z
UID:44fcd418dc225b612e2883a226ee941e
CREATED;VALUE=DATE-TIME:20200308T000000Z
CATEGORIES:Infantils
LOCATION:Escola Sinera
ORGANIZER:Escola Sinera
COMMENT:Durada: Diumenge de 10h a 14h
URL:https://arenysdemar.cat/document.php?id=38353
END:VEVENT
END:VCALENDAR