BEGIN:VCALENDAR
VERSION:2.0
PRODID:-//Plone.org//NONSGML plone.app.event//EN
X-WR-TIMEZONE:Europe/Madrid
BEGIN:VEVENT
SUMMARY:48è Concurs de Grups de Teatre Amateur Premi Vila d'Arenys de Mar ACTIVITAT AJORNADA
DTSTART;TZID=Europe/Madrid;VALUE=DATE-TIME:20200315T180000
DTEND;TZID=Europe/Madrid;VALUE=DATE-TIME:20200315T190000
DTSTAMP;VALUE=DATE-TIME:20260423T182806Z
UID:4070eac9ac06ecbf10daf24c8de2b6be
CREATED;VALUE=DATE-TIME:20200315T000000Z
CATEGORIES:Teatre
LOCATION:Casal de Joventut Seràfica - Josep Baralt, s/n
ORGANIZER:Seràfics - Casa de Teatre i Regidoria de Cultura
COMMENT:Preu: 8 euros
DESCRIPTION:El Gran Somni (musical) a càrrec de grup Filigranes de Molins de Rei
URL:https://arenysdemar.cat/document.php?id=38365
END:VEVENT
END:VCALENDAR