BEGIN:VCALENDAR
VERSION:2.0
PRODID:-//Plone.org//NONSGML plone.app.event//EN
X-WR-TIMEZONE:Europe/Madrid
BEGIN:VEVENT
SUMMARY:Hora del conte especial Gianni Rodari  ACTIVITAT SUSPESA
DTSTART;TZID=Europe/Madrid;VALUE=DATE-TIME:20200312T180000
DTEND;TZID=Europe/Madrid;VALUE=DATE-TIME:20200312T190000
DTSTAMP;VALUE=DATE-TIME:20260421T211818Z
UID:2872fac8671f2c3332f0ad9a52cd6236
CREATED;VALUE=DATE-TIME:20200312T000000Z
CATEGORIES:Infantils
LOCATION:Sala d'Actes de la Biblioteca - C. Bonaire, 3
ORGANIZER:Biblioteca - Regidoria de Cultura
COMMENT:Preu: Activitat recomanada per a infants a partir de 4 anys
DESCRIPTION:a càrrec d'Ivana Ares
URL:https://arenysdemar.cat/document.php?id=38387
END:VEVENT
END:VCALENDAR