BEGIN:VCALENDAR
VERSION:2.0
PRODID:-//Plone.org//NONSGML plone.app.event//EN
X-WR-TIMEZONE:Europe/Madrid
BEGIN:VEVENT
SUMMARY:Festa de Santa Paula Montal
DTSTART;TZID=Europe/Madrid;VALUE=DATE-TIME:20200227T190000
DTEND;TZID=Europe/Madrid;VALUE=DATE-TIME:20200227T200000
DTSTAMP;VALUE=DATE-TIME:20260426T031102Z
UID:f3a52d63865742a78574aabfa466220c
CREATED;VALUE=DATE-TIME:20200227T000000Z
CATEGORIES:Festa
LOCATION:Església de Santa Maria - Plaça de l'Església
ORGANIZER:Parròquia de Santa Maria
DESCRIPTION:Missa en honor a l'arenyenca més universal
URL:https://arenysdemar.cat/document.php?id=38423
END:VEVENT
END:VCALENDAR