BEGIN:VCALENDAR
VERSION:2.0
PRODID:-//Plone.org//NONSGML plone.app.event//EN
X-WR-TIMEZONE:Europe/Madrid
BEGIN:VEVENT
SUMMARY:Conferència d'Història: El somni republicà i l'autonomia de Catalunya   ACTIVITAT AJORNADA
DTSTART;TZID=Europe/Madrid;VALUE=DATE-TIME:20200414T180000
DTEND;TZID=Europe/Madrid;VALUE=DATE-TIME:20200414T190000
DTSTAMP;VALUE=DATE-TIME:20260421T213547Z
UID:7145a2b6113d1644a77ef1d2852d3b87
CREATED;VALUE=DATE-TIME:20200414T000000Z
CATEGORIES:Conferència
LOCATION:Sala Josep Maria Arnau del C.C.Calisay - Riera del Pare Fita, 31
ORGANIZER:Aula d'Extensió Universitària
DESCRIPTION:a càrrec de Joaquim Nadal, historiador
URL:https://arenysdemar.cat/document.php?id=38475
END:VEVENT
END:VCALENDAR