BEGIN:VCALENDAR
VERSION:2.0
PRODID:-//Plone.org//NONSGML plone.app.event//EN
X-WR-TIMEZONE:Europe/Madrid
BEGIN:VEVENT
SUMMARY:Dijous sardanes
DTSTART;TZID=Europe/Madrid;VALUE=DATE-TIME:20200806T193000
DTEND;TZID=Europe/Madrid;VALUE=DATE-TIME:20200806T203000
DTSTAMP;VALUE=DATE-TIME:20260426T031315Z
UID:36e1a478d8165bac313854091d62fdb0
CREATED;VALUE=DATE-TIME:20200806T000000Z
CATEGORIES:Música
LOCATION:Plaça de l'Església - Plaça de l'Església
ORGANIZER:Ajuntament d'Arenys de Mar i secció sardanista de l'Ateneu Arenyenc
DESCRIPTION:amb la Cobla Ciutat de Terrassa
URL:https://arenysdemar.cat/document.php?id=38490
END:VEVENT
END:VCALENDAR