BEGIN:VCALENDAR
VERSION:2.0
PRODID:-//Plone.org//NONSGML plone.app.event//EN
X-WR-TIMEZONE:Europe/Madrid
BEGIN:VEVENT
SUMMARY:Club de lectura en anglès  ACTIVITAT SUSPESA
DTSTART;TZID=Europe/Madrid;VALUE=DATE-TIME:20200417T200000
DTEND;TZID=Europe/Madrid;VALUE=DATE-TIME:20200417T210000
DTSTAMP;VALUE=DATE-TIME:20260424T100238Z
UID:e0b7ed8bb83c970c4a60b927413bbb5b
CREATED;VALUE=DATE-TIME:20200417T000000Z
CATEGORIES:Cursos,Literatura
LOCATION:Biblioteca - Bonaire, 2
ORGANIZER:Biblioteca - Regidoria de Cultura
COMMENT:Preu: Inscripcions a la Biblioteca
DESCRIPTION:a càrrec de Leonora de Groot Bogaarts
URL:https://arenysdemar.cat/document.php?id=38529
END:VEVENT
END:VCALENDAR