BEGIN:VCALENDAR
VERSION:2.0
PRODID:-//Plone.org//NONSGML plone.app.event//EN
X-WR-TIMEZONE:Europe/Madrid
BEGIN:VEVENT
SUMMARY:Excursió a Montserrat
DTSTART;TZID=Europe/Madrid;VALUE=DATE-TIME:20200411T080000
DTEND;TZID=Europe/Madrid;VALUE=DATE-TIME:20200411T090000
DTSTAMP;VALUE=DATE-TIME:20260426T063447Z
UID:39cb7dfa83bca3305640f968120c2f65
CREATED;VALUE=DATE-TIME:20200411T000000Z
CATEGORIES:Mostra
LOCATION:Sortida de la Riera davant del CC Calisay
ORGANIZER:Esplai de la Gent Gran
URL:https://arenysdemar.cat/document.php?id=38542
END:VEVENT
END:VCALENDAR