BEGIN:VCALENDAR
VERSION:2.0
PRODID:-//Plone.org//NONSGML plone.app.event//EN
X-WR-TIMEZONE:Europe/Madrid
BEGIN:VEVENT
SUMMARY:Presentació de la Bandereta del Campanar 2020  ACTIVITAT AJORNADA
DTSTART;TZID=Europe/Madrid;VALUE=DATE-TIME:20200418T173000
DTEND;TZID=Europe/Madrid;VALUE=DATE-TIME:20200418T183000
DTSTAMP;VALUE=DATE-TIME:20260424T145055Z
UID:1227c529f27ac58c274162479df6639d
CREATED;VALUE=DATE-TIME:20200418T000000Z
CATEGORIES:Festa
LOCATION:Ateneu Arenyenc - Anselm Clavé, 22
ORGANIZER:Ateneu Arenyenc i Parròquia de Santa Maria
URL:https://arenysdemar.cat/document.php?id=38562
END:VEVENT
END:VCALENDAR