BEGIN:VCALENDAR
VERSION:2.0
PRODID:-//Plone.org//NONSGML plone.app.event//EN
X-WR-TIMEZONE:Europe/Madrid
BEGIN:VEVENT
SUMMARY:Contes per a infants: Cap de pardals
DTSTART;TZID=Europe/Madrid;VALUE=DATE-TIME:20200709T200000
DTEND;TZID=Europe/Madrid;VALUE=DATE-TIME:20200709T210000
DTSTAMP;VALUE=DATE-TIME:20260424T163354Z
UID:8ef19c739409791d3eb33d80b6a0ddd8
CREATED;VALUE=DATE-TIME:20200709T000000Z
CATEGORIES:Infantils
LOCATION:Teatre Principal - C. Església, 45-47
ORGANIZER:Regidoria de Festes
DESCRIPTION:a càrrec de la Cia. Ulldistret
URL:https://arenysdemar.cat/document.php?id=39097
END:VEVENT
END:VCALENDAR