BEGIN:VCALENDAR
VERSION:2.0
PRODID:-//Plone.org//NONSGML plone.app.event//EN
X-WR-TIMEZONE:Europe/Madrid
BEGIN:VEVENT
SUMMARY:Titelles: 7 ratolins
DTSTART;TZID=Europe/Madrid;VALUE=DATE-TIME:20200710T190000
DTEND;TZID=Europe/Madrid;VALUE=DATE-TIME:20200710T200000
DTSTAMP;VALUE=DATE-TIME:20260426T035441Z
UID:073b41f9942d14d065fd3b3e82f08419
CREATED;VALUE=DATE-TIME:20200710T000000Z
CATEGORIES:Infantils
LOCATION:Teatre Principal - C. Església, 45-47
ORGANIZER:Regidoria de Festes
DESCRIPTION:a càrrec de la Cia. Petit Bonhom
URL:https://arenysdemar.cat/document.php?id=39100
END:VEVENT
END:VCALENDAR