BEGIN:VCALENDAR
VERSION:2.0
PRODID:-//Plone.org//NONSGML plone.app.event//EN
X-WR-TIMEZONE:Europe/Madrid
BEGIN:VEVENT
SUMMARY:Concert de Festa major
DTSTART;TZID=Europe/Madrid;VALUE=DATE-TIME:20200710T223000
DTEND;TZID=Europe/Madrid;VALUE=DATE-TIME:20200710T233000
DTSTAMP;VALUE=DATE-TIME:20260426T021703Z
UID:ad5398ef004ab28db014617c9c7a7faa
CREATED;VALUE=DATE-TIME:20200710T000000Z
CATEGORIES:Música
LOCATION:Riera, zona nova coberta
ORGANIZER:Regidoria de Festes
DESCRIPTION:a càrrec de l'Orquestra Exel
URL:https://arenysdemar.cat/document.php?id=39102
END:VEVENT
END:VCALENDAR