BEGIN:VCALENDAR
VERSION:2.0
PRODID:-//Plone.org//NONSGML plone.app.event//EN
X-WR-TIMEZONE:Europe/Madrid
BEGIN:VEVENT
SUMMARY:Contes: La gran pesta
DTSTART;TZID=Europe/Madrid;VALUE=DATE-TIME:20200712T203000
DTEND;TZID=Europe/Madrid;VALUE=DATE-TIME:20200712T213000
DTSTAMP;VALUE=DATE-TIME:20260424T061714Z
UID:9ab0ac0ef9622548fe0b1b4feb77ae21
CREATED;VALUE=DATE-TIME:20200712T000000Z
CATEGORIES:Infantils
LOCATION:Pati del C.C.Calisay - Riera del Pare Fita, 31
ORGANIZER:Regidoria de Festes
DESCRIPTION:a càrrec d'ES-BO Teatre
URL:https://arenysdemar.cat/document.php?id=39107
END:VEVENT
END:VCALENDAR