BEGIN:VCALENDAR
VERSION:2.0
PRODID:-//Plone.org//NONSGML plone.app.event//EN
X-WR-TIMEZONE:Europe/Madrid
BEGIN:VEVENT
SUMMARY:Emissió virtual Pregó de Festa Major
DTSTART;TZID=Europe/Madrid;VALUE=DATE-TIME:20200708T203000
DTEND;TZID=Europe/Madrid;VALUE=DATE-TIME:20200708T213000
DTSTAMP;VALUE=DATE-TIME:20260426T000941Z
UID:a35075c4655e26d2ff860f27d8b1dc0a
CREATED;VALUE=DATE-TIME:20200708T000000Z
CATEGORIES:Mostra
LOCATION:Facebook live municipal o Youtube Ràdio Arenys
ORGANIZER:Regidoria de Festes i CAP d'Arenys de Mar
DESCRIPTION:a càrrec del personal sanitari del CAP d'Arenys de Mar
URL:https://arenysdemar.cat/document.php?id=39111
END:VEVENT
END:VCALENDAR