BEGIN:VCALENDAR
VERSION:2.0
PRODID:-//Plone.org//NONSGML plone.app.event//EN
X-WR-TIMEZONE:Europe/Madrid
BEGIN:VEVENT
SUMMARY:Introspectiva amb grafit i carbó
DTSTART;TZID=Europe/Madrid;VALUE=DATE-TIME:20200703T180000
DTEND;TZID=Europe/Madrid;VALUE=DATE-TIME:20200703T190000
DTSTAMP;VALUE=DATE-TIME:20260426T020022Z
UID:31ccf902a8de48d25dc1a8484eba8fde
CREATED;VALUE=DATE-TIME:20200703T000000Z
CATEGORIES:Exposició
LOCATION:Clarisses
ORGANIZER:Regidoria de Cultura
COMMENT:Durada: Fins al 26 de juliol de 2020
DESCRIPTION:Obres de Joan Manel Salichs
URL:https://arenysdemar.cat/document.php?id=39116
END:VEVENT
END:VCALENDAR