BEGIN:VCALENDAR
VERSION:2.0
PRODID:-//Plone.org//NONSGML plone.app.event//EN
X-WR-TIMEZONE:Europe/Madrid
BEGIN:VEVENT
SUMMARY:20 20. 40 anys d'exposicions
DTSTART;TZID=Europe/Madrid;VALUE=DATE-TIME:20200703T180000
DTEND;TZID=Europe/Madrid;VALUE=DATE-TIME:20200703T190000
DTSTAMP;VALUE=DATE-TIME:20260424T083142Z
UID:379419e1dc562963369d5b67b05bbac0
CREATED;VALUE=DATE-TIME:20200703T000000Z
CATEGORIES:Exposició
LOCATION:Sala Exposicions del C.C.Calisay - Riera del Pare Fita, 31
ORGANIZER:Regidoria de Cultura
COMMENT:Durada: Fins al 26 de juliol de 2020
DESCRIPTION:Recull d'obres de Jordi Coll Alzina
URL:https://arenysdemar.cat/document.php?id=39117
END:VEVENT
END:VCALENDAR