BEGIN:VCALENDAR
VERSION:2.0
PRODID:-//Plone.org//NONSGML plone.app.event//EN
X-WR-TIMEZONE:Europe/Madrid
BEGIN:VEVENT
SUMMARY:Missa de difunts
DTSTART;TZID=Europe/Madrid;VALUE=DATE-TIME:20200710T184500
DTEND;TZID=Europe/Madrid;VALUE=DATE-TIME:20200710T194500
DTSTAMP;VALUE=DATE-TIME:20260426T001055Z
UID:de4fe71b4cdc74e5b08dd4facfffba01
CREATED;VALUE=DATE-TIME:20200710T000000Z
CATEGORIES:Festa
LOCATION:Església de Santa Maria - Plaça de l'Església
ORGANIZER:Parròquia de Santa Maria
DESCRIPTION:en record dels arenyencs traspassats del juliol del 2019 al març del 2020
URL:https://arenysdemar.cat/document.php?id=39147
END:VEVENT
END:VCALENDAR