BEGIN:VCALENDAR
VERSION:2.0
PRODID:-//Plone.org//NONSGML plone.app.event//EN
X-WR-TIMEZONE:Europe/Madrid
BEGIN:VEVENT
SUMMARY:Diumenges infantils: jocs gegants
DTSTART;TZID=Europe/Madrid;VALUE=DATE-TIME:20200802T180000
DTEND;TZID=Europe/Madrid;VALUE=DATE-TIME:20200802T190000
DTSTAMP;VALUE=DATE-TIME:20260425T214833Z
UID:b69df457f168816ac2593bedbecf626a
CREATED;VALUE=DATE-TIME:20200802T000000Z
CATEGORIES:Infantils
LOCATION:Riera davant Asil Torrent
ORGANIZER:Regidoria de Festes
COMMENT:Durada: fins a les 21h
URL:https://arenysdemar.cat/document.php?id=39185
END:VEVENT
END:VCALENDAR