BEGIN:VCALENDAR
VERSION:2.0
PRODID:-//Plone.org//NONSGML plone.app.event//EN
X-WR-TIMEZONE:Europe/Madrid
BEGIN:VEVENT
SUMMARY:Diumenges infantils: tallers
DTSTART;TZID=Europe/Madrid;VALUE=DATE-TIME:20200809T180000
DTEND;TZID=Europe/Madrid;VALUE=DATE-TIME:20200809T190000
DTSTAMP;VALUE=DATE-TIME:20260425T180722Z
UID:9455557d1ed80b203847a2dc56ce7f7d
CREATED;VALUE=DATE-TIME:20200809T000000Z
CATEGORIES:Infantils
LOCATION:Riera davant Asil Torrent
ORGANIZER:Regidoria de Festes
COMMENT:Durada: fins a les 21h
URL:https://arenysdemar.cat/document.php?id=39187
END:VEVENT
END:VCALENDAR