BEGIN:VCALENDAR
VERSION:2.0
PRODID:-//Plone.org//NONSGML plone.app.event//EN
X-WR-TIMEZONE:Europe/Madrid
BEGIN:VEVENT
SUMMARY:Cantada del Carme
DTSTART;TZID=Europe/Madrid;VALUE=DATE-TIME:20200719T190000
DTEND;TZID=Europe/Madrid;VALUE=DATE-TIME:20200719T200000
DTSTAMP;VALUE=DATE-TIME:20260426T003058Z
UID:6999f9021c445c335c942ca7101f321f
CREATED;VALUE=DATE-TIME:20200719T000000Z
CATEGORIES:Música
LOCATION:Port
COMMENT:Preu: Gratuït
Durada: 1 hora i dos quarts
URL:https://arenysdemar.cat/document.php?id=39217
END:VEVENT
END:VCALENDAR