BEGIN:VCALENDAR
VERSION:2.0
PRODID:-//Plone.org//NONSGML plone.app.event//EN
X-WR-TIMEZONE:Europe/Madrid
BEGIN:VEVENT
SUMMARY:UAOO! Teatre a la Fresca
DTSTART;TZID=Europe/Madrid;VALUE=DATE-TIME:20200802T200000
DTEND;TZID=Europe/Madrid;VALUE=DATE-TIME:20200802T210000
DTSTAMP;VALUE=DATE-TIME:20260426T003043Z
UID:d15705095db39e8bbc6e9991012f7ec0
CREATED;VALUE=DATE-TIME:20200802T000000Z
CATEGORIES:Mostra,Infantils,Teatre
LOCATION:Pati del C.C.Calisay - Riera del Pare Fita, 31
ORGANIZER:Ca la Rita i Ajuntament Arenys de Mar
COMMENT:Preu: Gratuït. Reserva d'entrades al web del Teatre Principal
DESCRIPTION:Davaiii a càrrec de la Cia. Dacirc
URL:https://arenysdemar.cat/document.php?id=39223
END:VEVENT
END:VCALENDAR