BEGIN:VCALENDAR
VERSION:2.0
PRODID:-//Plone.org//NONSGML plone.app.event//EN
X-WR-TIMEZONE:Europe/Madrid
BEGIN:VEVENT
SUMMARY:Cercavila de macips, macipes, macipets i captadores
DTSTART;TZID=Europe/Madrid;VALUE=DATE-TIME:20200816T090000
DTEND;TZID=Europe/Madrid;VALUE=DATE-TIME:20200816T100000
DTSTAMP;VALUE=DATE-TIME:20260426T051328Z
UID:9abd89b41fe8379e890896813a74c205
CREATED;VALUE=DATE-TIME:20200816T000000Z
CATEGORIES:Festa
LOCATION:Pels carrers i places de la vila
ORGANIZER:Patronat de Sant Roc
URL:https://arenysdemar.cat/document.php?id=39272
END:VEVENT
END:VCALENDAR