BEGIN:VCALENDAR
VERSION:2.0
PRODID:-//Plone.org//NONSGML plone.app.event//EN
X-WR-TIMEZONE:Europe/Madrid
BEGIN:VEVENT
SUMMARY:Ofrena floral de l'11 de setembre
DTSTART;TZID=Europe/Madrid;VALUE=DATE-TIME:20200911T090000
DTEND;TZID=Europe/Madrid;VALUE=DATE-TIME:20200911T100000
DTSTAMP;VALUE=DATE-TIME:20260424T000703Z
UID:328ce549057e82646be9c2224a6021f5
CREATED;VALUE=DATE-TIME:20200911T000000Z
CATEGORIES:Festa
LOCATION:Pati del C.C.Calisay - Riera del Pare Fita, 31
ORGANIZER:Ajuntament d'Arenys de Mar i entitats locals
COMMENT:Durada: fins a les 2 del migdia
DESCRIPTION:Diada Nacional de Catalunya
URL:https://arenysdemar.cat/document.php?id=39352
END:VEVENT
END:VCALENDAR