BEGIN:VCALENDAR
VERSION:2.0
PRODID:-//Plone.org//NONSGML plone.app.event//EN
X-WR-TIMEZONE:Europe/Madrid
BEGIN:VEVENT
SUMMARY:Obertura del curs de l'Aula d'Extensió Universitària. Un món ple (també) de bones notícies
DTSTART;TZID=Europe/Madrid;VALUE=DATE-TIME:20201006T180000
DTEND;TZID=Europe/Madrid;VALUE=DATE-TIME:20201006T190000
DTSTAMP;VALUE=DATE-TIME:20260420T152658Z
UID:29e5e1f5d5dce36b4b52e5f29bbb6521
CREATED;VALUE=DATE-TIME:20201006T000000Z
CATEGORIES:Conferència
LOCATION:Teatre Principal - C. Església, 45-47
ORGANIZER:Aula d'Extensió Universitària
DESCRIPTION:Lliçó inaugural a càrrec de Salvador Cardús, sociòleg, periodista i escriptor
URL:https://arenysdemar.cat/document.php?id=39365
END:VEVENT
END:VCALENDAR