BEGIN:VCALENDAR
VERSION:2.0
PRODID:-//Plone.org//NONSGML plone.app.event//EN
X-WR-TIMEZONE:Europe/Madrid
BEGIN:VEVENT
SUMMARY:The Missed Love
DTSTART;TZID=Europe/Madrid;VALUE=DATE-TIME:20200927T180000
DTEND;TZID=Europe/Madrid;VALUE=DATE-TIME:20200927T190000
DTSTAMP;VALUE=DATE-TIME:20260424T094005Z
UID:aee1a3874097a7becaad062220e9a7d7
CREATED;VALUE=DATE-TIME:20200927T000000Z
CATEGORIES:Dansa
LOCATION:Teatre Principal - C. Església, 45-47
ORGANIZER:Societat Coral l'Esperança i Regidoria de Cultura
COMMENT:Preu: 6 euros
DESCRIPTION:A càrrec de CYC Contemporary Youth Company
URL:https://arenysdemar.cat/document.php?id=39397
END:VEVENT
END:VCALENDAR