BEGIN:VCALENDAR
VERSION:2.0
PRODID:-//Plone.org//NONSGML plone.app.event//EN
X-WR-TIMEZONE:Europe/Madrid
BEGIN:VEVENT
SUMMARY:Taller de coneixement de minerals  ACTIVITAT ANUL·LADA
DTSTART;TZID=Europe/Madrid;VALUE=DATE-TIME:20201122T110000
DTEND;TZID=Europe/Madrid;VALUE=DATE-TIME:20201122T120000
DTSTAMP;VALUE=DATE-TIME:20260425T182616Z
UID:e296eb50edccafd536eb02cc519c6538
CREATED;VALUE=DATE-TIME:20201122T000000Z
CATEGORIES:Cursos
LOCATION:Museu Mineralogia - Església, 37-39
ORGANIZER:Museu d'Arenys de Mar
COMMENT:Preu: Gratuït
Durada: També diumenge 29 de novembre
URL:https://arenysdemar.cat/document.php?id=39399
END:VEVENT
END:VCALENDAR