BEGIN:VCALENDAR
VERSION:2.0
PRODID:-//Plone.org//NONSGML plone.app.event//EN
X-WR-TIMEZONE:Europe/Madrid
BEGIN:VEVENT
SUMMARY:Presentació del llibre: El Futuro es un planeta lejano de J.M. Gran
DTSTART;TZID=Europe/Madrid;VALUE=DATE-TIME:20201002T190000
DTEND;TZID=Europe/Madrid;VALUE=DATE-TIME:20201002T200000
DTSTAMP;VALUE=DATE-TIME:20260420T152408Z
UID:148725625d31c67399250531267ae9a0
CREATED;VALUE=DATE-TIME:20201002T000000Z
CATEGORIES:Literatura
LOCATION:Sala d'Actes de la Biblioteca - C. Bonaire, 3
ORGANIZER:Biblioteca - Regidoria de Cultura
COMMENT:Durada: - Aforament Limitat -
DESCRIPTION:a càrrec de Manuel Piñeiro
URL:https://arenysdemar.cat/document.php?id=39451
END:VEVENT
END:VCALENDAR