BEGIN:VCALENDAR
VERSION:2.0
PRODID:-//Plone.org//NONSGML plone.app.event//EN
X-WR-TIMEZONE:Europe/Madrid
BEGIN:VEVENT
SUMMARY:Hora del conte: Enfilant el caminet
DTSTART;TZID=Europe/Madrid;VALUE=DATE-TIME:20201112T180000
DTEND;TZID=Europe/Madrid;VALUE=DATE-TIME:20201112T190000
DTSTAMP;VALUE=DATE-TIME:20260424T024315Z
UID:336979d75b176fd71d2ff875ce8752a5
CREATED;VALUE=DATE-TIME:20201112T000000Z
CATEGORIES:Infantils
LOCATION:Per Internet
ORGANIZER:Biblioteca - Regidoria de Cultura
DESCRIPTION:a càrrec de Gina Clotet. Activitat recomanada per a petits d'1 a 4 anys
URL:https://arenysdemar.cat/document.php?id=39675
END:VEVENT
END:VCALENDAR