BEGIN:VCALENDAR
VERSION:2.0
PRODID:-//Plone.org//NONSGML plone.app.event//EN
X-WR-TIMEZONE:Europe/Madrid
BEGIN:VEVENT
SUMMARY:Converses a la carta en francès. Un brin de causette
DTSTART;TZID=Europe/Madrid;VALUE=DATE-TIME:20201117T163000
DTEND;TZID=Europe/Madrid;VALUE=DATE-TIME:20201117T173000
DTSTAMP;VALUE=DATE-TIME:20260423T150420Z
UID:f339600311d8458d599f76bf7b73f727
CREATED;VALUE=DATE-TIME:20201117T000000Z
CATEGORIES:Cursos
LOCATION:Per Internet
ORGANIZER:Biblioteca - Regidoria de Cultura
COMMENT:Preu: Inscripcions a la Biblioteca
DESCRIPTION:a càrrec de Carme Porcel
URL:https://arenysdemar.cat/document.php?id=39705
END:VEVENT
END:VCALENDAR