BEGIN:VCALENDAR
VERSION:2.0
PRODID:-//Plone.org//NONSGML plone.app.event//EN
X-WR-TIMEZONE:Europe/Madrid
BEGIN:VEVENT
SUMMARY:Tertúlia de novel·la: Entre ells dos de Richard Ford
DTSTART;TZID=Europe/Madrid;VALUE=DATE-TIME:20201214T190000
DTEND;TZID=Europe/Madrid;VALUE=DATE-TIME:20201214T200000
DTSTAMP;VALUE=DATE-TIME:20260426T045353Z
UID:3493286d87dfc7f866f8131986034ef7
CREATED;VALUE=DATE-TIME:20201214T000000Z
CATEGORIES:Literatura
LOCATION:Activitat virtual
ORGANIZER:Biblioteca - Regidoria de Cultura
DESCRIPTION:Moderada per Montserrat Fonoll
URL:https://arenysdemar.cat/document.php?id=39888
END:VEVENT
END:VCALENDAR