BEGIN:VCALENDAR
VERSION:2.0
PRODID:-//Plone.org//NONSGML plone.app.event//EN
X-WR-TIMEZONE:Europe/Madrid
BEGIN:VEVENT
SUMMARY:Donem de menjar al Tió
DTSTART;TZID=Europe/Madrid;VALUE=DATE-TIME:20201214T170000
DTEND;TZID=Europe/Madrid;VALUE=DATE-TIME:20201214T180000
DTSTAMP;VALUE=DATE-TIME:20260420T152716Z
UID:513788bb4cdbac720d2d877a8b6a9deb
CREATED;VALUE=DATE-TIME:20201214T000000Z
CATEGORIES:Infantils
LOCATION:Pati del C.C.Calisay - Riera del Pare Fita, 31
ORGANIZER:Regidoria de Festes
COMMENT:Durada: Del dilluns 14 al divendres 18 de 17 a 20h
DESCRIPTION:Trobareu més informació en aquest enllaç
URL:https://arenysdemar.cat/document.php?id=39899
END:VEVENT
END:VCALENDAR