BEGIN:VCALENDAR
VERSION:2.0
PRODID:-//Plone.org//NONSGML plone.app.event//EN
X-WR-TIMEZONE:Europe/Madrid
BEGIN:VEVENT
SUMMARY:Conferència de Política: Transformar Catalunya des dels Ajuntaments
DTSTART;TZID=Europe/Madrid;VALUE=DATE-TIME:20210112T180000
DTEND;TZID=Europe/Madrid;VALUE=DATE-TIME:20210112T190000
DTSTAMP;VALUE=DATE-TIME:20260420T183637Z
UID:a03eaeaa3aa81515b6e8f0d3006a978f
CREATED;VALUE=DATE-TIME:20210112T000000Z
CATEGORIES:Conferència
LOCATION:Via streaming
ORGANIZER:Aula d'Extensió Universitària
COMMENT:Preu: Via streaming. Seguint les normes sanitàries del moment
DESCRIPTION:a càrrec de Montserrat Tura, consellera de la Generalitat de Catalunya 2003-2010
URL:https://arenysdemar.cat/document.php?id=39927
END:VEVENT
END:VCALENDAR