BEGIN:VCALENDAR
VERSION:2.0
PRODID:-//Plone.org//NONSGML plone.app.event//EN
X-WR-TIMEZONE:Europe/Madrid
BEGIN:VEVENT
SUMMARY:Febrer Musical: Igor Stravinsky (1882-1971), nou segle, nova música. De Rússia a França
DTSTART;TZID=Europe/Madrid;VALUE=DATE-TIME:20210205T180000
DTEND;TZID=Europe/Madrid;VALUE=DATE-TIME:20210205T190000
DTSTAMP;VALUE=DATE-TIME:20260421T085617Z
UID:924b995775ffe659c71799c07245f7ea
CREATED;VALUE=DATE-TIME:20210205T000000Z
CATEGORIES:Conferència
LOCATION:Via streaming
ORGANIZER:Aula d'Extensió Universitària
DESCRIPTION:a càrrec de Jesús Rodríguez Picó, compositor
URL:https://arenysdemar.cat/document.php?id=39942
END:VEVENT
END:VCALENDAR