BEGIN:VCALENDAR
VERSION:2.0
PRODID:-//Plone.org//NONSGML plone.app.event//EN
X-WR-TIMEZONE:Europe/Madrid
BEGIN:VEVENT
SUMMARY:Cantique de Noël ACTIVITAT SUSPESA
DTSTART;TZID=Europe/Madrid;VALUE=DATE-TIME:20201227T190000
DTEND;TZID=Europe/Madrid;VALUE=DATE-TIME:20201227T200000
DTSTAMP;VALUE=DATE-TIME:20260420T150930Z
UID:a05841061d1458df7d4ff382fdf1797b
CREATED;VALUE=DATE-TIME:20201227T000000Z
CATEGORIES:Música
LOCATION:Església de Santa Maria - Plaça de l'Església
ORGANIZER:Magdalena Campasol i Parròquia de Santa Maria
COMMENT:Preu: 12 &euro;
URL:https://arenysdemar.cat/document.php?id=39952
END:VEVENT
END:VCALENDAR