BEGIN:VCALENDAR
VERSION:2.0
PRODID:-//Plone.org//NONSGML plone.app.event//EN
X-WR-TIMEZONE:Europe/Madrid
BEGIN:VEVENT
SUMMARY:Concert de sardanes
DTSTART;TZID=Europe/Madrid;VALUE=DATE-TIME:20210805T193000
DTEND;TZID=Europe/Madrid;VALUE=DATE-TIME:20210805T203000
DTSTAMP;VALUE=DATE-TIME:20260420T184112Z
UID:2aa0e75f76ac2e8e443679217f1cadf7
CREATED;VALUE=DATE-TIME:20210805T000000Z
CATEGORIES:Música
LOCATION:Pati del Xifré - Auterive, s/n
ORGANIZER:Secció Sardanista Ateneu Arenyenc i Regidoria de Cultura
DESCRIPTION:amb la Cobla Premià
URL:https://arenysdemar.cat/document.php?id=40255
END:VEVENT
END:VCALENDAR