BEGIN:VCALENDAR
VERSION:2.0
PRODID:-//Plone.org//NONSGML plone.app.event//EN
X-WR-TIMEZONE:Europe/Madrid
BEGIN:VEVENT
SUMMARY:Conferència d'Economia: Política econòmica i crisi Covid-19
DTSTART;TZID=Europe/Madrid;VALUE=DATE-TIME:20210504T180000
DTEND;TZID=Europe/Madrid;VALUE=DATE-TIME:20210504T190000
DTSTAMP;VALUE=DATE-TIME:20260423T115300Z
UID:188eac872acf43e0615d5797b7665c3f
CREATED;VALUE=DATE-TIME:20210504T000000Z
CATEGORIES:Conferència
LOCATION:Via streaming
ORGANIZER:Aula d'Extensió Universitària
DESCRIPTION:a càrrec de Miquel Rubirola, economista
URL:https://arenysdemar.cat/document.php?id=40291
END:VEVENT
END:VCALENDAR