BEGIN:VCALENDAR
VERSION:2.0
PRODID:-//Plone.org//NONSGML plone.app.event//EN
X-WR-TIMEZONE:Europe/Madrid
BEGIN:VEVENT
SUMMARY:Visites escolars Coneguem els nostres gegants
DTSTART;TZID=Europe/Madrid;VALUE=DATE-TIME:20210421T000000
DTEND;TZID=Europe/Madrid;VALUE=DATE-TIME:20210421T010000
DTSTAMP;VALUE=DATE-TIME:20260420T075912Z
UID:91cd5af376779cc4640c876a4fb5c6d0
CREATED;VALUE=DATE-TIME:20210421T000000Z
CATEGORIES:Exposició
LOCATION:Sala '1 d'octubre' del C.C.Calisay - Riera Pare Fita, 31
ORGANIZER:Geganters d´Arenys de Mar i la Regidoria de Festes
COMMENT:Preu: Més informació al web de Sant Jordi: www.arenysdemar/santjordi
Durada: també els dies 22, i 23 d'abril
DESCRIPTION:amb els Geganters d´Arenys de Mar
URL:https://arenysdemar.cat/document.php?id=40318
END:VEVENT
END:VCALENDAR