BEGIN:VCALENDAR
VERSION:2.0
PRODID:-//Plone.org//NONSGML plone.app.event//EN
X-WR-TIMEZONE:Europe/Madrid
BEGIN:VEVENT
SUMMARY:Espurnes II
DTSTART;TZID=Europe/Madrid;VALUE=DATE-TIME:20210605T200000
DTEND;TZID=Europe/Madrid;VALUE=DATE-TIME:20210605T210000
DTSTAMP;VALUE=DATE-TIME:20260424T114202Z
UID:4b4cc74ee7febfd93da87d1bb8f3034d
CREATED;VALUE=DATE-TIME:20210605T000000Z
CATEGORIES:Mostra,Teatre
LOCATION:Casal de Joventut Seràfica - Josep Baralt, s/n
ORGANIZER:Seràfics
COMMENT:Preu: 5 euros
Durada: 1h i 15min
DESCRIPTION:Festival de Teatre breu
URL:https://arenysdemar.cat/document.php?id=40537
END:VEVENT
END:VCALENDAR