BEGIN:VCALENDAR
VERSION:2.0
PRODID:-//Plone.org//NONSGML plone.app.event//EN
X-WR-TIMEZONE:Europe/Madrid
BEGIN:VEVENT
SUMMARY:Fira d'Artesania
DTSTART;TZID=Europe/Madrid;VALUE=DATE-TIME:20211205T100000
DTEND;TZID=Europe/Madrid;VALUE=DATE-TIME:20211205T110000
DTSTAMP;VALUE=DATE-TIME:20260423T232223Z
UID:ac6d6681a299449afc63b45da9f6a969
CREATED;VALUE=DATE-TIME:20211205T000000Z
CATEGORIES:Mostra
LOCATION:Riera Bisbe Pol
ORGANIZER:Crisàlide
COMMENT:Preu: Gratuït
Durada: Tot el dia
URL:https://arenysdemar.cat/document.php?id=40572
END:VEVENT
END:VCALENDAR