BEGIN:VCALENDAR
VERSION:2.0
PRODID:-//Plone.org//NONSGML plone.app.event//EN
X-WR-TIMEZONE:Europe/Madrid
BEGIN:VEVENT
SUMMARY:Fira d'Artesania
DTSTART;TZID=Europe/Madrid;VALUE=DATE-TIME:20210704T100000
DTEND;TZID=Europe/Madrid;VALUE=DATE-TIME:20210704T110000
DTSTAMP;VALUE=DATE-TIME:20260424T014909Z
UID:9ca15fe9d2f586cc23c1739f95b32ce8
CREATED;VALUE=DATE-TIME:20210704T000000Z
CATEGORIES:Mostra
LOCATION:Riera
ORGANIZER:Crisàlide
COMMENT:Preu: Gratuït
Durada: Tot el dia
URL:https://arenysdemar.cat/document.php?id=40575
END:VEVENT
END:VCALENDAR