BEGIN:VCALENDAR
VERSION:2.0
PRODID:-//Plone.org//NONSGML plone.app.event//EN
X-WR-TIMEZONE:Europe/Madrid
BEGIN:VEVENT
SUMMARY:Exposició d'Escultures
DTSTART;TZID=Europe/Madrid;VALUE=DATE-TIME:20210604T180000
DTEND;TZID=Europe/Madrid;VALUE=DATE-TIME:20210604T190000
DTSTAMP;VALUE=DATE-TIME:20260423T171109Z
UID:a981d5ede32221ccdfdbb67593017000
CREATED;VALUE=DATE-TIME:20210604T000000Z
CATEGORIES:Exposició
LOCATION:Sala Exposicions del C.C.Calisay - Riera del Pare Fita, 31
ORGANIZER:Regidoria de Cultura i ICRE
COMMENT:Durada: Fins al 27 de juny de 2021
DESCRIPTION:a càrrec dels socis de l'Institut Català per la Recerca en Escultura (ICRE)
URL:https://arenysdemar.cat/document.php?id=40577
END:VEVENT
END:VCALENDAR