BEGIN:VCALENDAR
VERSION:2.0
PRODID:-//Plone.org//NONSGML plone.app.event//EN
X-WR-TIMEZONE:Europe/Madrid
BEGIN:VEVENT
SUMMARY:Música, teatre i flors
DTSTART;TZID=Europe/Madrid;VALUE=DATE-TIME:20210605T183000
DTEND;TZID=Europe/Madrid;VALUE=DATE-TIME:20210605T193000
DTSTAMP;VALUE=DATE-TIME:20260423T221150Z
UID:7730a99e55fe324110bd02c16a8f2772
CREATED;VALUE=DATE-TIME:20210605T000000Z
CATEGORIES:Música,Teatre
LOCATION:Pati de les Clarisses
ORGANIZER:Escola de Música, Seràfics Casa del Teatre, regidoria de Gent Gran i regidoria de Cultura
COMMENT:Preu: Aforament limitat. Entrada gratuïta. Cal reserva prèvia
DESCRIPTION:a càrrec de Los Sarita amb acció teatral del Seràfics
URL:https://arenysdemar.cat/document.php?id=40590
END:VEVENT
END:VCALENDAR