BEGIN:VCALENDAR
VERSION:2.0
PRODID:-//Plone.org//NONSGML plone.app.event//EN
X-WR-TIMEZONE:Europe/Madrid
BEGIN:VEVENT
SUMMARY:Dansa i flors
DTSTART;TZID=Europe/Madrid;VALUE=DATE-TIME:20210605T180000
DTEND;TZID=Europe/Madrid;VALUE=DATE-TIME:20210605T190000
DTSTAMP;VALUE=DATE-TIME:20260423T221423Z
UID:735ba6106f90b6aa610f6b0f9cbf7477
CREATED;VALUE=DATE-TIME:20210605T000000Z
CATEGORIES:Dansa
LOCATION:Pati del Museu de Mineralogia (accés pel carrer Sant Josep)
ORGANIZER:Estudi de Dansa Sinera i Regidoria de Cultura
COMMENT:Preu: Aforament limitat. Entrada gratuïta. Cal reserva prèvia.
DESCRIPTION:a càrrec de l´Estudi de Dansa Sinera
URL:https://arenysdemar.cat/document.php?id=40591
END:VEVENT
END:VCALENDAR