BEGIN:VCALENDAR
VERSION:2.0
PRODID:-//Plone.org//NONSGML plone.app.event//EN
X-WR-TIMEZONE:Europe/Madrid
BEGIN:VEVENT
SUMMARY:Arenys de Contes. Festival d'estiu de contes per a adults: Reis, Rocs, Rics i Rols
DTSTART;TZID=Europe/Madrid;VALUE=DATE-TIME:20210714T220000
DTEND;TZID=Europe/Madrid;VALUE=DATE-TIME:20210714T230000
DTSTAMP;VALUE=DATE-TIME:20260422T025910Z
UID:fa66f7f39de01969a75d5680bb5072f5
CREATED;VALUE=DATE-TIME:20210714T000000Z
CATEGORIES:Literatura
LOCATION:Biblioplatja - Platja de la Picòrdia
ORGANIZER:Biblioteca - Regidoria de Cultura
COMMENT:Preu: Cal inscripció prèvia per telèfon (937923253), correu electrònic (b.arenysma.pff@diba.cat), o bé presencialment a la Biblioteca o a la Biblioplatja. Places limitades
DESCRIPTION:a càrrec de Blai Senabre
URL:https://arenysdemar.cat/document.php?id=40654
END:VEVENT
END:VCALENDAR