BEGIN:VCALENDAR
VERSION:2.0
PRODID:-//Plone.org//NONSGML plone.app.event//EN
X-WR-TIMEZONE:Europe/Madrid
BEGIN:VEVENT
SUMMARY:Big Chicken
DTSTART;TZID=Europe/Madrid;VALUE=DATE-TIME:20210710T190000
DTEND;TZID=Europe/Madrid;VALUE=DATE-TIME:20210710T200000
DTSTAMP;VALUE=DATE-TIME:20260424T190204Z
UID:b1ab93ef8dffafc3e9a34bb52c786c17
CREATED;VALUE=DATE-TIME:20210710T000000Z
CATEGORIES:Infantils
LOCATION:Pati del C.C.Calisay - Riera del Pare Fita, 31
ORGANIZER:Regidoria de Festes
COMMENT:Preu: Aforament limitat. Treu la teva invitació a través del portal web del Teatre Principal.
DESCRIPTION:amb el grup Xiula
URL:https://arenysdemar.cat/document.php?id=40684
END:VEVENT
END:VCALENDAR