BEGIN:VCALENDAR
VERSION:2.0
PRODID:-//Plone.org//NONSGML plone.app.event//EN
X-WR-TIMEZONE:Europe/Madrid
BEGIN:VEVENT
SUMMARY:Hora del conte: Contes dins d'una ampolla
DTSTART;TZID=Europe/Madrid;VALUE=DATE-TIME:20210722T183000
DTEND;TZID=Europe/Madrid;VALUE=DATE-TIME:20210722T193000
DTSTAMP;VALUE=DATE-TIME:20260421T095837Z
UID:afa93bad4e88c1894dd2422f51752bf6
CREATED;VALUE=DATE-TIME:20210722T000000Z
CATEGORIES:Infantils
LOCATION:Biblioplatja - Platja de la Picòrdia
ORGANIZER:Biblioteca - Regidoria de Cultura
COMMENT:Preu: Cal inscripció prèvia per telèfon (937923253), correu electrònic (b.arenysma.pff@diba.cat), o bé presencialment a la Biblioteca o a la Biblioplatja. Places limitades.
DESCRIPTION:a càrrec de Santi Rovira
URL:https://arenysdemar.cat/document.php?id=40699
END:VEVENT
END:VCALENDAR